BEGIN:VCALENDAR
VERSION:2.0
PRODID:-//ChamberMaster//Event Calendar 2.0//EN
METHOD:PUBLISH
X-PUBLISHED-TTL:P3D
REFRESH-INTERVAL:P3D
CALSCALE:GREGORIAN
BEGIN:VEVENT
DTSTART:20201015T153000Z
DTEND:20201015T163000Z
X-MICROSOFT-CDO-ALLDAYEVENT:FALSE
SUMMARY:Women United Engage & Inspire
DESCRIPTION:Women United is launching a new discussion series\, Engage & Inspire\, for local Northeast Georgia women. This opportunity allows local women to connect\, learn and grow together. Women United is launching this FREE series virtually with hopes of moving this in-person in the future. This first session will feature Lauren Liverman\, BA\, MSW\, LCSW\, as we discuss how "Even Wonder Woman Spills Coffee on her Cape: Keeping your Cool During Crazy Times." We hope you'll join us for an engaging session featuring Lauren's talk and breakout sessions.
X-ALT-DESC;FMTTYPE=text/html:Women United is launching a new discussion series\, Engage &amp\; Inspire\, for local Northeast Georgia women.&nbsp\;This opportunity allows local women to connect\, learn and grow together. Women United is launching this FREE series virtually with hopes of moving this in-person in the future. This first session will feature Lauren Liverman\, BA\, MSW\, LCSW\, as we discuss how &quot\;Even Wonder Woman Spills Coffee on her Cape: Keeping your Cool During Crazy Times.&quot\; We hope you&#39\;ll join us for an engaging session featuring Lauren&#39\;s talk and breakout sessions.
LOCATION:Register via Eventbrite\, this is an online event. https://www.eventbrite.com/e/women-united-engage-inspire-tickets-121590292839
UID:e.1940.165537
SEQUENCE:3
DTSTAMP:20260424T212948Z
URL:https://business.athensga.com/events/details/women-united-engage-inspire-165537
END:VEVENT

END:VCALENDAR
