BEGIN:VCALENDAR
VERSION:2.0
PRODID:-//ChamberMaster//Event Calendar 2.0//EN
METHOD:PUBLISH
X-PUBLISHED-TTL:P3D
REFRESH-INTERVAL:P3D
CALSCALE:GREGORIAN
BEGIN:VEVENT
DTSTART:20220825T220000Z
DTEND:20220826T003000Z
X-MICROSOFT-CDO-ALLDAYEVENT:FALSE
SUMMARY:Welcome to the City UGA Athens Alumni
DESCRIPTION:Whether you are a current resident or just moved to Athens\, come meet local Bulldog alumni and find out about the Athens Chapter! Cold beverages and snacks will be served from 6-8:30 p.m. on Thursday\, August 25 at Lake Herrick in the pavilion right in the heart of UGA's campus!
X-ALT-DESC;FMTTYPE=text/html:Whether you are a current resident or just moved to Athens\, come meet local Bulldog alumni and find out about the Athens Chapter! Cold beverages and snacks will be served from 6-8:30 p.m. on Thursday\, August 25 at Lake Herrick in the pavilion&mdash\;right in the heart of UGA&#39\;s campus!
LOCATION:Lake Herrick Pavilion on campus at UGA
UID:e.1940.165971
SEQUENCE:3
DTSTAMP:20260421T053306Z
URL:https://business.athensga.com/events/details/welcome-to-the-city-uga-athens-alumni-165971
END:VEVENT

END:VCALENDAR
