BEGIN:VCALENDAR
VERSION:2.0
PRODID:-//ChamberMaster//Event Calendar 2.0//EN
METHOD:PUBLISH
X-PUBLISHED-TTL:P3D
REFRESH-INTERVAL:P3D
CALSCALE:GREGORIAN
BEGIN:VEVENT
DTSTART:20201116T130000Z
DTEND:20201116T220000Z
X-MICROSOFT-CDO-ALLDAYEVENT:FALSE
SUMMARY:Week of 11/16 - 11/21: W&A Engineering-Building Better Communities November Local Business Partnership
DESCRIPTION:SHOP AT GEORGIA CYCLE SPORT\n\nTHE WEEK OF NOVEMBER 20TH\n\nAND HELP RAISE $500 FOR THE FIREFLY TRAIL!\n\n\nAs part of W&A Engineering's 20th Anniversary celebration\, we have launched a year-long program\, the Building Better Communities Local Business Partnership! Support a local charity by shopping local at Georgia Cycle Sport! Beginning this Sunday and all throughout the week of November 20th\, you can help raise $500 for the Firefly Trail. W&A Engineering will be matching Georgia Cycle Sport's first $500 in sales this week as a donation to the Firefly Trail Inc\, a local non-profit dedicated to repurposing abandoned railroad property into multi-purpose pedestrian trails that are proven to boost our local economy.
X-ALT-DESC;FMTTYPE=text/html:<h1 style="text-align:center"><strong>SHOP AT GEORGIA CYCLE SPORT</strong></h1>\n\n<h1 style="text-align:center"><strong>THE WEEK OF NOVEMBER 20TH</strong></h1>\n\n<h1 style="text-align:center"><strong>AND HELP RAISE $500 FOR THE FIREFLY TRAIL!</strong></h1>\n<br />\n<span style="font-family:arial\,sans-serif"><span style="font-size:11.0pt">As part of W&amp\;A Engineering&rsquo\;s 20th Anniversary celebration\, we have launched a year-long program\, the Building Better Communities Local Business Partnership!&nbsp\;</span></span><span style="font-family:arial\,sans-serif">Support a local charity by shopping local at Georgia Cycle Sport! Beginning this Sunday and all throughout the week of November 20th\, you can help raise $500 for the Firefly Trail.&nbsp\;<span style="font-size:11.0pt">W&amp\;A Engineering will be matching Georgia Cycle Sport&#39\;s first $500 in sales this week as a donation to the Firefly Trail Inc\, a local non-profit dedicated to repurposing abandoned railroad property into multi-purpose pedestrian trails that are proven to boost our local economy.&nbsp\;</span></span><br />\n&nbsp\;
LOCATION:Georgia Cycle Sport 1029 Baxter Street Athens\, Georgia 30606
UID:e.1940.165546
SEQUENCE:3
DTSTAMP:20260424T185006Z
URL:https://business.athensga.com/events/details/week-of-11-16-11-21-w-a-engineering-building-better-communities-november-local-business-partnership-165546
END:VEVENT

END:VCALENDAR
