BEGIN:VCALENDAR
VERSION:2.0
PRODID:-//ChamberMaster//Event Calendar 2.0//EN
METHOD:PUBLISH
X-PUBLISHED-TTL:P3D
REFRESH-INTERVAL:P3D
CALSCALE:GREGORIAN
BEGIN:VEVENT
DTSTART:20200403T150000Z
DTEND:20200403T160000Z
X-MICROSOFT-CDO-ALLDAYEVENT:FALSE
SUMMARY:*WEBINAR* Thriving in the Storm - What Type of Leader are You?
DESCRIPTION:Learn how to thrive in the storm & help your team come out of COVID-19 stronger & healthier\, not atrophied and lazy. It begins with you...\n\n\n\n\n\n\n\n\nWhat is it like to be on the other side of you and your leadership?\n\nToo many leaders approach their leadership from either a 'try hard and hope for the best' or 'lead others like I would want to be led' approach. Unfortunately\, accidental leadership isn't a strategy\, and leading others based on our own preferences guarantees we will get it wrong at least half of the time. Effective leaders know themselves well enough to lead themselves ahead of leading others.\n\nJoin us for this special "Thriving in the Storm" webinar focused on helping you and your team come out of the COVID-19 season stronger & healthier\, not atrophied & lazy.\n\nBrought to you by GiANT + Athens Area Chamber of Commerce\n\nMajor topics...\n\n\n	Why information transfer\, while important\, is not enough.\n	Where most leadership development falls short and how you can avoid the same mistake.\n	We're not always the best judge of what it's like to be on the other side of us!\n	Leading is a balancing act between bringing appropriate & effective support & challenge with those you lead.\n	The dangers of bringing support without challenge and vice versa.\n	The four distinct types of leaders and which characterizes you without intentionality.\n	The accompanying cultures that are inadvertently created by each type of leader.\n	How others experience us in all circles of influence.\n	How to intentionally engage those you lead to lead yourself out of your default.\n\n\nLearning Objectives:\n\n\n	Learn two tools that will help you understand how those you work & live with experience you on a regular basis.\n	Learn where you default to (& how not to stay there).\n	Learn how to regularly stay in touch with your tendencies in order to be a better leader moving forward.
X-ALT-DESC;FMTTYPE=text/html:<div class="g-cell g-cell-10-12 g-cell-md-1-1">\n<div class="has-user-generated-content js-d-read-more read-more js-read-more read-more--medium-down read-more--expanded" data-xd-wired="read-more">\n<div class="js-xd-read-more-toggle-view read-more__toggle-view">\n<div class="js-xd-read-more-contents text-body-medium" data-automation="listing-event-description"><strong>Learn how to thrive in the storm &amp\; help your team come out of COVID-19 stronger &amp\; healthier\, not atrophied and lazy. It begins with you...</strong></div>\n</div>\n</div>\n</div>\n\n<div class="g-group l-mar-bot-6 l-sm-mar-bot-4">\n<div class="structured-content g-cell g-cell-10-12 g-cell-md-1-1">\n<div class="has-user-generated-content" data-automation="about-this-event-sc">\n<div class="structured-content-rich-text structured-content__module l-align-left l-mar-vert-6 l-sm-mar-vert-4 text-body-medium">\n<h3>What is it like to be on the other side of you and your leadership?</h3>\n\n<p>Too many leaders approach their leadership from either a &lsquo\;try hard and hope for the best&rsquo\; or &lsquo\;lead others like I would want to be led&rsquo\; approach. Unfortunately\, accidental leadership isn&rsquo\;t a strategy\, and leading others based on our own preferences guarantees we will get it wrong at least half of the time. Effective leaders know themselves well enough to lead themselves ahead of leading others.</p>\n\n<p><strong>Join us for this special &quot\;Thriving in the Storm&quot\; webinar focused on helping you and your team come out of the COVID-19 season stronger &amp\; healthier\, not atrophied &amp\; lazy.</strong></p>\n\n<p><strong>Brought to you by GiANT + Athens Area Chamber of Commerce</strong></p>\n\n<p>Major topics...</p>\n\n<ul>\n	<li>Why information transfer\, while important\, is not enough.</li>\n	<li>Where most leadership development falls short and how you can avoid the same mistake.</li>\n	<li>We&rsquo\;re not always the best judge of what it&rsquo\;s like to be on the other side of us!</li>\n	<li>Leading is a balancing act between bringing appropriate &amp\; effective support &amp\; challenge with those you lead.</li>\n	<li>The dangers of bringing support without challenge and vice versa.</li>\n	<li>The four distinct types of leaders and which characterizes you without intentionality.</li>\n	<li>The accompanying cultures that are inadvertently created by each type of leader.</li>\n	<li>How others experience us in all circles of influence.</li>\n	<li>How to intentionally engage those you lead to lead yourself out of your default.</li>\n</ul>\n\n<p>Learning Objectives:</p>\n\n<ul>\n	<li>Learn two tools that will help you understand how those you work &amp\; live with experience you on a regular basis.</li>\n	<li>Learn where you default to (&amp\; how not to stay there).</li>\n	<li>Learn how to regularly stay in touch with your tendencies in order to be a better leader moving forward.</li>\n</ul>\n</div>\n</div>\n</div>\n</div>\n
LOCATION:REGISTER IN ADVANCE on Eventbrite using this link: CLICK HERE
UID:e.1940.164348
SEQUENCE:3
DTSTAMP:20260421T104631Z
URL:https://business.athensga.com/events/details/webinar-thriving-in-the-storm-what-type-of-leader-are-you-164348
END:VEVENT

END:VCALENDAR
