BEGIN:VCALENDAR
VERSION:2.0
PRODID:-//ChamberMaster//Event Calendar 2.0//EN
METHOD:PUBLISH
X-PUBLISHED-TTL:P3D
REFRESH-INTERVAL:P3D
CALSCALE:GREGORIAN
BEGIN:VEVENT
DTSTART:20200908T130000Z
DTEND:20200908T160000Z
X-MICROSOFT-CDO-ALLDAYEVENT:FALSE
SUMMARY:UGA - SBDC - Starting a Business
DESCRIPTION:The Starting A Business course covers important tools and resources a business owner needs to establish a solid foundation during its early formative years.\n\nTopics for discussion include:\n\n\n	Personal Traits of an Entrepreneur\n	Marketing Analysis\n	Legal and Insurance Considerations\n	Technology for Your Business\n	Bookkeeping and Accounting Basics\n	Financial and Money Management\n	Basics of Business Plan Preparation\n\n\nWho should attend: Startups (businesses less than 2 years old)\n\nCOST: $69   $0 through the end of 2020\n\nCOURSE LENGTH: 3 HOURS
X-ALT-DESC;FMTTYPE=text/html:<p style="box-sizing: border-box\; margin: 0px 0px 10px\; color: rgb(119\, 119\, 119)\; font-family: &quot\;Merriweather Sans&quot\;\; font-size: 15px\; background-color: rgb(255\, 255\, 255)\;">The&nbsp\;<span style="box-sizing: border-box\; font-weight: 700\; margin-bottom: 0px\;">Starting A Business</span>&nbsp\;course covers important tools and resources a business owner needs to establish a solid foundation during its early formative years.</p>\n\n<p style="box-sizing: border-box\; margin: 0px 0px 10px\; color: rgb(119\, 119\, 119)\; font-family: &quot\;Merriweather Sans&quot\;\; font-size: 15px\; background-color: rgb(255\, 255\, 255)\;">Topics for discussion include:</p>\n\n<ul style="box-sizing: border-box\; margin-top: 0px\; margin-bottom: 10px\; color: rgb(119\, 119\, 119)\; font-family: &quot\;Merriweather Sans&quot\;\; font-size: 15px\; background-color: rgb(255\, 255\, 255)\;">\n	<li style="box-sizing: border-box\;">Personal Traits of an Entrepreneur</li>\n	<li style="box-sizing: border-box\;">Marketing Analysis</li>\n	<li style="box-sizing: border-box\;">Legal and Insurance Considerations</li>\n	<li style="box-sizing: border-box\;">Technology for Your Business</li>\n	<li style="box-sizing: border-box\;">Bookkeeping and Accounting Basics</li>\n	<li style="box-sizing: border-box\;">Financial and Money Management</li>\n	<li style="box-sizing: border-box\; margin-bottom: 0px\;">Basics of Business Plan Preparation</li>\n</ul>\n\n<p style="box-sizing: border-box\; margin: 0px 0px 10px\; color: rgb(119\, 119\, 119)\; font-family: &quot\;Merriweather Sans&quot\;\; font-size: 15px\; background-color: rgb(255\, 255\, 255)\;">Who should attend: Startups (businesses less than 2 years old)</p>\n\n<p style="box-sizing: border-box\; margin: 0px\; color: rgb(119\, 119\, 119)\; font-family: &quot\;Merriweather Sans&quot\;\; font-size: 15px\; background-color: rgb(255\, 255\, 255)\;"><span style="box-sizing: border-box\; font-weight: 700\;">COST:&nbsp\;<del style="box-sizing: border-box\; margin-bottom: 0px\;">$69</del>&nbsp\;&ndash\; $0 through the end of 2020</span><br style="box-sizing: border-box\;" />\n<span style="box-sizing: border-box\; font-weight: 700\; margin-bottom: 0px\;">COURSE LENGTH: 3 HOURS</span></p>\n
LOCATION:REGISTER online: https://www.georgiasbdc.org/checkout/
UID:e.1940.165500
SEQUENCE:3
DTSTAMP:20260424T234954Z
URL:https://business.athensga.com/events/details/uga-sbdc-starting-a-business-165500
END:VEVENT

END:VCALENDAR
