BEGIN:VCALENDAR
VERSION:2.0
PRODID:-//ChamberMaster//Event Calendar 2.0//EN
METHOD:PUBLISH
X-PUBLISHED-TTL:P3D
REFRESH-INTERVAL:P3D
CALSCALE:GREGORIAN
BEGIN:VEVENT
DTSTART:20200616T190000Z
DTEND:20200616T200000Z
X-MICROSOFT-CDO-ALLDAYEVENT:FALSE
SUMMARY:U.S. Chamber: State of the Pandemic + What COVID-19 Means for Children
DESCRIPTION:A Path Forward Special Edition:\n\nState of the Pandemic\n\n+\n\nWhat COVID-19 Means for Children\n\nTuesday\, June 16 at 3:00 p.m. EST \n\nThis Tuesday\, we will host a special Path Forward program with some of the country's top experts to answer your most pressing questions about the state of the pandemic and what schools and others are doing to protect young people from infection. \n\n\n\nDr. Margaret Hamburg\, an internationally recognized leader in public health\, will provide an update on the fight against COVID-19. As a former FDA commissioner and NYC health commissioner\, Dr. Hamburg brings a critical perspective on everything from the global race to develop a vaccine to the steps local leaders are taking to prevent community spread of the coronavirus. \n\n\n\nKevin Washington\, president and CEO of the YMCA of the USA\, will explain how his organization has been filling the gap during school closures and what they're doing over the summer. \n\n\n\nSusana Cordova\, superintendent of Denver Public Schools\, will discuss the impact COVID-19 has had on schools and what educators are doing to keep students safe now and in the fall.
X-ALT-DESC;FMTTYPE=text/html:<p style="margin: 1em 0px\; font-family: Verdana\, Geneva\, sans-serif\; font-size: 15px\; background-color: rgb(255\, 255\, 255)\; text-align: center\; line-height: 22.5px\;"><span style="margin: 0px\; padding: 0px\; border: 0px\; font-style: inherit\; font-variant: inherit\; font-weight: inherit\; font-stretch: inherit\; font-size: 17px\; line-height: inherit\; font-family: inherit\; vertical-align: baseline\; color: inherit\;"><b><span style="margin: 0px\; padding: 0px\; border: 0px\; font-style: inherit\; font-variant: inherit\; font-weight: inherit\; font-stretch: inherit\; font-size: inherit\; line-height: inherit\; font-family: Calibri\, Candara\, Segoe\, &quot\;Segoe UI&quot\;\, Optima\, Arial\, sans-serif\; vertical-align: baseline\; color: inherit\;">A Path Forward Special Edition:</span></b></span></p>\n\n<p style="margin: 1em 0px\; font-family: Verdana\, Geneva\, sans-serif\; font-size: 15px\; background-color: rgb(255\, 255\, 255)\; text-align: center\; line-height: 17.25px\;"><span style="margin: 0px\; padding: 0px\; border: 0px\; font-style: inherit\; font-variant: inherit\; font-weight: inherit\; font-stretch: inherit\; font-size: 26px\; line-height: inherit\; font-family: inherit\; vertical-align: baseline\; color: inherit\;"><b><span style="margin: 0px\; padding: 0px\; border: 0px\; font-style: inherit\; font-variant: inherit\; font-weight: inherit\; font-stretch: inherit\; font-size: inherit\; line-height: inherit\; font-family: Calibri\, Candara\, Segoe\, &quot\;Segoe UI&quot\;\, Optima\, Arial\, sans-serif\; vertical-align: baseline\; color: inherit\;">State&nbsp\;of the Pandemic<br />\n+<br />\nWhat COVID-19 Means for Children</span></b></span></p>\n\n<p style="margin: 1em 0px\; font-family: Verdana\, Geneva\, sans-serif\; font-size: 15px\; background-color: rgb(255\, 255\, 255)\; text-align: center\; line-height: 17.25px\;"><span style="margin: 0px\; padding: 0px\; border: 0px\; font-style: inherit\; font-variant: inherit\; font-weight: inherit\; font-stretch: inherit\; font-size: 17px\; line-height: inherit\; font-family: inherit\; vertical-align: baseline\; color: inherit\;"><b><span style="margin: 0px\; padding: 0px\; border: 0px\; font-style: inherit\; font-variant: inherit\; font-weight: inherit\; font-stretch: inherit\; font-size: inherit\; line-height: inherit\; font-family: Calibri\, Candara\, Segoe\, &quot\;Segoe UI&quot\;\, Optima\, Arial\, sans-serif\; vertical-align: baseline\; color: inherit\;">Tuesday\, June 16 at 3:00 p.m. EST&nbsp\;</span></b></span></p>\n\n<p style="margin: 1em 0px\; font-family: Verdana\, Geneva\, sans-serif\; font-size: 15px\; background-color: rgb(255\, 255\, 255)\; line-height: 22.5px\;"><span style="margin: 0px\; padding: 0px\; border: 0px\; font-style: inherit\; font-variant: inherit\; font-weight: inherit\; font-stretch: inherit\; font-size: 16px\; line-height: inherit\; font-family: inherit\; vertical-align: baseline\; color: inherit\;"><span style="margin: 0px\; padding: 0px\; border: 0px\; font-style: inherit\; font-variant: inherit\; font-weight: inherit\; font-stretch: inherit\; font-size: inherit\; line-height: inherit\; font-family: Calibri\, Candara\, Segoe\, &quot\;Segoe UI&quot\;\, Optima\, Arial\, sans-serif\; vertical-align: baseline\; color: inherit\;">This Tuesday\,&nbsp\;we will&nbsp\;host&nbsp\;a special&nbsp\;Path Forward&nbsp\;program with some of the&nbsp\;country&rsquo\;s&nbsp\;top experts to answer your most pressing questions about the state of the pandemic and what schools and others are doing to protect young people from infection.&nbsp\;</span></span><br />\n<br />\n<span style="margin: 0px\; padding: 0px\; border: 0px\; font-style: inherit\; font-variant: inherit\; font-weight: inherit\; font-stretch: inherit\; font-size: 16px\; line-height: inherit\; font-family: inherit\; vertical-align: baseline\; color: inherit\;"><span style="margin: 0px\; padding: 0px\; border: 0px\; font-style: inherit\; font-variant: inherit\; font-weight: inherit\; font-stretch: inherit\; font-size: inherit\; line-height: inherit\; font-family: Calibri\, Candara\, Segoe\, &quot\;Segoe UI&quot\;\, Optima\, Arial\, sans-serif\; vertical-align: baseline\; color: inherit\;"><b><a data-auth="NotApplicable" href="http://click.uschamber.com/?qs=d6bf6a5795a4963cfdb42307712693b02c65e5f1d1553b742a0fd5a897cd4b9def047b44c4c73b7b1f90fd22ef83dd1af7491fa143148e9d" rel="noopener noreferrer" style="margin: 0px\; padding: 0px\; border: 0px\; font: inherit\; vertical-align: baseline\; color: rgb(0\, 118\, 163)\; text-decoration-line: none\;" target="_blank" title="Dr. Margaret Hamburg">Dr. Margaret Hamburg</a></b>\, an internationally recognized leader in public health\, will provide an update on the fight against COVID-19. As a former FDA commissioner and NYC health commissioner\, Dr. Hamburg brings a critical perspective on everything from the global race to develop a vaccine to the steps local leaders are taking to prevent community spread of the coronavirus.&nbsp\;</span></span><br />\n<br />\n<span style="margin: 0px\; padding: 0px\; border: 0px\; font-style: inherit\; font-variant: inherit\; font-weight: inherit\; font-stretch: inherit\; font-size: 16px\; line-height: inherit\; font-family: inherit\; vertical-align: baseline\; color: inherit\;"><span style="margin: 0px\; padding: 0px\; border: 0px\; font-style: inherit\; font-variant: inherit\; font-weight: inherit\; font-stretch: inherit\; font-size: inherit\; line-height: inherit\; font-family: Calibri\, Candara\, Segoe\, &quot\;Segoe UI&quot\;\, Optima\, Arial\, sans-serif\; vertical-align: baseline\; color: inherit\;"><b><a data-auth="NotApplicable" href="http://click.uschamber.com/?qs=d6bf6a5795a4963ca25dff263f7cf929721a8099b33026b33edbff5734ad522562d4997313a94dabd6f7526e04e385665981ff9bf19fbf8c" rel="noopener noreferrer" style="margin: 0px\; padding: 0px\; border: 0px\; font: inherit\; vertical-align: baseline\; color: rgb(0\, 118\, 163)\; text-decoration-line: none\;" target="_blank" title="Kevin Washington">Kevin Washington</a></b>\, president and CEO of the YMCA of the USA\, will explain how his organization has been filling the gap during school closures and what they&#39\;re doing over the summer.&nbsp\;</span></span><br />\n<br />\n<span style="margin: 0px\; padding: 0px\; border: 0px\; font-style: inherit\; font-variant: inherit\; font-weight: inherit\; font-stretch: inherit\; font-size: 16px\; line-height: inherit\; font-family: inherit\; vertical-align: baseline\; color: inherit\;"><span style="margin: 0px\; padding: 0px\; border: 0px\; font-style: inherit\; font-variant: inherit\; font-weight: inherit\; font-stretch: inherit\; font-size: inherit\; line-height: inherit\; font-family: Calibri\, Candara\, Segoe\, &quot\;Segoe UI&quot\;\, Optima\, Arial\, sans-serif\; vertical-align: baseline\; color: inherit\;"><b><a data-auth="NotApplicable" href="http://click.uschamber.com/?qs=d6bf6a5795a4963c481e6fdfedeebf147c897f718504f934aa3b095d1ab41db7623de8d856a9a87da9c814ad2ebcfb161dbf8566201dcc78" rel="noopener noreferrer" style="margin: 0px\; padding: 0px\; border: 0px\; font: inherit\; vertical-align: baseline\; color: rgb(0\, 118\, 163)\; text-decoration-line: none\;" target="_blank" title="Susana Cordova">Susana Cordova</a></b>\, superintendent of Denver Public Schools\,&nbsp\;will discuss the impact COVID-19 has had on schools and what educators are doing to keep students safe now and in the fall.&nbsp\;</span></span></p>\n
LOCATION:
UID:e.1940.165053
SEQUENCE:3
DTSTAMP:20260419T152824Z
URL:https://business.athensga.com/events/details/u-s-chamber-state-of-the-pandemic-what-covid-19-means-for-children-165053
END:VEVENT

END:VCALENDAR
