BEGIN:VCALENDAR
VERSION:2.0
PRODID:-//ChamberMaster//Event Calendar 2.0//EN
METHOD:PUBLISH
X-PUBLISHED-TTL:P3D
REFRESH-INTERVAL:P3D
CALSCALE:GREGORIAN
BEGIN:VEVENT
DTSTART:20260518T153000Z
DTEND:20260518T170000Z
X-MICROSOFT-CDO-ALLDAYEVENT:FALSE
SUMMARY:Tri Chamber Legislative Briefing
DESCRIPTION:The Chambers of Barrow\, Oconee and Athens-Clarke County will hold their 6th Annual Tri Chamber Legislative Briefing on May 18th at he Oconee County Civic Center.  We will welcome our regional General Assembly delegation for a panel discussion about the 2026 session\, moderated by Katie Duvall of the Georgia Chamber.
X-ALT-DESC;FMTTYPE=text/html:<span style="color: rgb(51\, 51\, 51)\; font-family: sans-serif\, Arial\, Verdana\, &quot\;Trebuchet MS&quot\;\; font-size: 13px\; background-color: rgb(255\, 255\, 255)\;">The Chambers of Barrow\, Oconee and Athens-Clarke County will hold their 6th Annual Tri Chamber Legislative Briefing on May 18th at he Oconee County Civic Center.&nbsp\;</span><span style="color: rgb(51\, 51\, 51)\; font-family: sans-serif\, Arial\, Verdana\, &quot\;Trebuchet MS&quot\;\; font-size: 13px\; background-color: rgb(255\, 255\, 255)\;">&nbsp\;We will welcome our regional General Assembly delegation for a panel discussion about the 2026 session\, moderated by Katie Duvall of the Georgia Chamber.&nbsp\;</span>
LOCATION:The Oconee County Civic Center
UID:e.1940.172235
SEQUENCE:3
DTSTAMP:20260421T230739Z
URL:https://business.athensga.com/events/details/tri-chamber-legislative-briefing-172235
END:VEVENT

END:VCALENDAR
