BEGIN:VCALENDAR
VERSION:2.0
PRODID:-//ChamberMaster//Event Calendar 2.0//EN
METHOD:PUBLISH
X-PUBLISHED-TTL:P3D
REFRESH-INTERVAL:P3D
CALSCALE:GREGORIAN
BEGIN:VEVENT
DTSTART:20201008T111500Z
DTEND:20201009T000000Z
X-MICROSOFT-CDO-ALLDAYEVENT:FALSE
SUMMARY:Stronger Business Summit
DESCRIPTION:The Stronger Business Summit is a groundbreaking event happening at The Classic Center in Athens on October 8\, 2020. The event will offer a live and virtual entrepreneur-based vendor fair\, a distanced/virtual experience network party with live music and themed cocktails\, and an amazing line-up of speakers. This is an opportunity to learn from some of the most insightful speakers such as: \n\n	Jesse Itzler: NY Times Best-Selling Author & Entrepreneur\n	Dana Spinola: Founder/CVO of fab'rik and Atlanta Businessperson of the Year\n	Steve McLendon: Professional NFL Football Player & team captain of the NY Jets\n	James Whitley:  Founder & COO of Landmark Properties\, the US' largest student-housing developer\n	Plus 8 additional breakout sessions and speakers! \n\nWith an innovative hybrid design creating a plan for safe gathering\, The Stronger Business Summit will pave the way for conferences in the future. It will be an asset to the Athens community and all those who attend.
X-ALT-DESC;FMTTYPE=text/html:<span style="font-family:arial\,helvetica\,sans-serif"><span style="font-size:14px"><span style="color:black">The Stronger Business Summit is a groundbreaking event happening at The Classic Center in Athens on October 8\, 2020. The event will offer a live and virtual entrepreneur-based vendor fair\, a distanced/virtual experience network party with live music and themed cocktails\, and an amazing line-up of speakers. This is an opportunity to learn from some of the most insightful speakers such as:&nbsp\;</span></span></span>\n<ul>\n	<li><strong><span style="font-family:arial\,helvetica\,sans-serif"><span style="font-size:14px">Jesse Itzler: NY Times Best-Selling Author &amp\; Entrepreneur</span></span></strong></li>\n	<li><strong><span style="font-family:arial\,helvetica\,sans-serif"><span style="font-size:14px">Dana Spinola: Founder/CVO of fab&rsquo\;rik and Atlanta Businessperson of the Year</span></span></strong></li>\n	<li><strong><span style="font-family:arial\,helvetica\,sans-serif"><span style="font-size:14px">Steve McLendon: Professional NFL Football Player &amp\; team captain of the NY Jets</span></span></strong></li>\n	<li><strong><span style="font-family:arial\,helvetica\,sans-serif"><span style="font-size:14px">James Whitley:&nbsp\; Founder &amp\; COO of Landmark Properties\, the US&#39\; largest student-housing developer</span></span></strong></li>\n	<li><strong><span style="font-family:arial\,helvetica\,sans-serif"><span style="font-size:14px">Plus 8 additional breakout sessions and speakers!&nbsp\;</span></span></strong></li>\n</ul>\n<span style="font-family:arial\,helvetica\,sans-serif"><span style="font-size:14px"><span style="color:black">With an innovative hybrid design creating a plan for safe gathering\, The Stronger Business Summit will pave the way for conferences in the future. It will be an asset to the Athens community and all those who attend.</span></span></span><br />\n&nbsp\;
LOCATION:The Classic Center 300 N. Thomas Street Athens\, GA 30601
UID:e.1940.165504
SEQUENCE:3
DTSTAMP:20260424T212814Z
URL:https://business.athensga.com/events/details/stronger-business-summit-165504
END:VEVENT

END:VCALENDAR
