BEGIN:VCALENDAR
VERSION:2.0
PRODID:-//ChamberMaster//Event Calendar 2.0//EN
METHOD:PUBLISH
X-PUBLISHED-TTL:P3D
REFRESH-INTERVAL:P3D
CALSCALE:GREGORIAN
BEGIN:VEVENT
DTSTART:20200215T160000Z
DTEND:20200215T230000Z
X-MICROSOFT-CDO-ALLDAYEVENT:FALSE
SUMMARY:STEEL + PLANK Two Year Celebration
DESCRIPTION:It's Steel + Plank's 2 Year Anniversary! We will have extended store hours from 11a - 6p on Saturday\, February 15. At our all day open house we will be showing NW YRK\, a photography collection by Brittny Teree Smith. Along with her photography\, Brittny runs a successful frame shop\, arkhive. Her eye for design allows her to find the perfect frame to compliment a piece\, adding to its overall artistry and final effect. From 4 - 6p we will have a Scout & Cellar Wine Tasting. This wine goes beyond organic. Their clean-crafted wine is always free of synthetic pesticides\, chemical additives\, and sweeteners. We can't wait to celebrate with you!
X-ALT-DESC;FMTTYPE=text/html:It&rsquo\;s Steel + Plank&rsquo\;s 2 Year Anniversary! We will have extended store hours from 11a - 6p on Saturday\, February 15. At our all day open house we will be showing NW YRK\, a photography collection by Brittny Teree Smith. Along with her photography\, Brittny runs a successful frame shop\, arkhive. Her eye for design allows her to find the perfect frame to compliment a piece\, adding to its overall artistry and final effect. From 4 - 6p we will have a Scout &amp\; Cellar Wine Tasting. This wine goes beyond organic. Their clean-crafted wine is always free of synthetic pesticides\, chemical additives\, and sweeteners. We can&rsquo\;t wait to celebrate with you!
LOCATION:675 Pulaski St. Suite 200\, Athens GA 30601
UID:e.1940.164300
SEQUENCE:3
DTSTAMP:20260425T195254Z
URL:https://business.athensga.com/events/details/steel-plank-two-year-celebration-164300
END:VEVENT

END:VCALENDAR
