BEGIN:VCALENDAR
VERSION:2.0
PRODID:-//ChamberMaster//Event Calendar 2.0//EN
METHOD:PUBLISH
X-PUBLISHED-TTL:P3D
REFRESH-INTERVAL:P3D
CALSCALE:GREGORIAN
BEGIN:VEVENT
DTSTART:20191113T230000Z
DTEND:20191114T020000Z
X-MICROSOFT-CDO-ALLDAYEVENT:FALSE
SUMMARY:Starting A Business For Food Product Entrepreneurs
DESCRIPTION:10 steps to starting your new Food Product Business\, From Incorporation & Manufacturing all the way to Sales & Distribution
X-ALT-DESC;FMTTYPE=text/html:10 steps to starting your new Food Product Business\, From Incorporation &amp\; Manufacturing all the way to Sales &amp\; Distribution
LOCATION:UGA SBDC in Athens
UID:e.1940.164262
SEQUENCE:3
DTSTAMP:20260426T014756Z
URL:https://business.athensga.com/events/details/starting-a-business-for-food-product-entrepreneurs-164262
END:VEVENT

END:VCALENDAR
