BEGIN:VCALENDAR
VERSION:2.0
PRODID:-//ChamberMaster//Event Calendar 2.0//EN
METHOD:PUBLISH
X-PUBLISHED-TTL:P3D
REFRESH-INTERVAL:P3D
CALSCALE:GREGORIAN
BEGIN:VEVENT
DTSTART:20200407T120000Z
DTEND:20200407T130000Z
X-MICROSOFT-CDO-ALLDAYEVENT:FALSE
SUMMARY:*Small Business Community Update*
DESCRIPTION:Small Business Owners Conference Call with Mayor Kelly Girtz and City Manager Blaine Williams
X-ALT-DESC;FMTTYPE=text/html:Small Business Owners Conference Call with Mayor Kelly Girtz and City Manager Blaine Williams
LOCATION:Topic: Business Update with Mayor Girtz/Blaine Williams Time: Apr 7\, 2020 08:00 AM Eastern Time (US and Canada) Join Zoom Meeting https://zoom.us/j/837617369 Meeting ID: 837 617 369 One tap mobile +19292056099\,\,837617369# US (New York) +13126266799\,\,837617369# US (Chicago) Dial by your location +1 929 205 6099 US (New York) +1 312 626 6799 US (Chicago) +1 669 900 6833 US (San Jose) +1 253 215 8782 US +1 301 715 8592 US +1 346 248 7799 US (Houston) Meeting ID: 837 617 369 Find your local number: https://zoom.us/u/acKfUyPloM
UID:e.1940.164352
SEQUENCE:3
DTSTAMP:20260421T102326Z
URL:https://business.athensga.com/events/details/small-business-community-update-164352
END:VEVENT

END:VCALENDAR
