BEGIN:VCALENDAR
VERSION:2.0
PRODID:-//ChamberMaster//Event Calendar 2.0//EN
METHOD:PUBLISH
X-PUBLISHED-TTL:P3D
REFRESH-INTERVAL:P3D
CALSCALE:GREGORIAN
BEGIN:VEVENT
DTSTART:20220823T223000Z
DTEND:20220823T233000Z
X-MICROSOFT-CDO-ALLDAYEVENT:FALSE
SUMMARY:Rotary E-Club of the South Featuring Shelton Stevens
DESCRIPTION:The Rotary E-Club of the South will host UGA grad Shelton Stevens\, retired 25 year Executive Director of Children's Healthcare of Atlanta. His 2017 retirement video can be viewed here: https://vimeo.com/223856843.
X-ALT-DESC;FMTTYPE=text/html:<div style="border: 0px\; font-variant-numeric: inherit\; font-variant-east-asian: inherit\; font-stretch: inherit\; font-size: 15px\; line-height: inherit\; font-family: Roboto\, Helvetica\, Arial\, sans-serif\; margin: 0.5em 0px 0px\; padding: 0px\; vertical-align: baseline\; color: rgb(5\, 5\, 5)\; white-space: pre-wrap\;">\n<div dir="auto" style="border: 0px\; font: inherit\; margin: 0px\; padding: 0px\; vertical-align: baseline\; color: inherit\;"><font size="4">The Rotary E-Club of the South will host <span style="border: 0px\; font-style: inherit\; font-variant: inherit\; font-weight: inherit\; font-stretch: inherit\; font-size: inherit\; line-height: inherit\; font-family: Arial\, sans-serif\; margin: 0px\; padding: 0px\; vertical-align: baseline\; color: inherit\;">UGA grad </span><span style="border: 0px\; font: inherit\; margin: 0px\; padding: 0px\; vertical-align: baseline\; color: inherit\;">Shelton Stevens\, retired 25 year Executive Director of Children&rsquo\;s Healthcare of Atlanta. His 2017 retirement video can be viewed here: </span></font><font size="4"><a data-auth="NotApplicable" data-linkindex="0" href="https://vimeo.com/223856843?fbclid=IwAR3e5ZL_-AwH9nAfnqCEEjhOIcFiV7VMWWW2whjR5din4feWpuCQHKXa8Y4" rel="noopener noreferrer" role="link" style="border: 0px\; font: inherit\; margin: 0px\; padding: 0px\; vertical-align: baseline\; background-color: transparent\; display: inline\; list-style: none\; white-space: pre-wrap\; box-sizing: border-box\; outline: none\; text-decoration-line: none\;" tabindex="0" target="_blank">https://vimeo.com/223856843</a>.</font></div>\n</div>\n
LOCATION:This is a virtual event.
UID:e.1940.165939
SEQUENCE:3
DTSTAMP:20260421T100101Z
URL:https://business.athensga.com/events/details/rotary-e-club-of-the-south-featuring-shelton-stevens-165939
END:VEVENT

END:VCALENDAR
