BEGIN:VCALENDAR
VERSION:2.0
PRODID:-//ChamberMaster//Event Calendar 2.0//EN
METHOD:PUBLISH
X-PUBLISHED-TTL:P3D
REFRESH-INTERVAL:P3D
CALSCALE:GREGORIAN
BEGIN:VEVENT
DTSTART:20221025T223000Z
DTEND:20221025T233000Z
X-MICROSOFT-CDO-ALLDAYEVENT:FALSE
SUMMARY:Rotary E-Club of the South Featuring Mac McWhorter
DESCRIPTION:The Rotary E-Club of the South will host Mac McWhorter - All SEC UGA football player who coached at Georgia Tech\, Georgia\, Alabama\, Duke\, Clemson\, Texas and Penn State. I joke that he could never hold down a steady job. Invited by Peter Stoddard
X-ALT-DESC;FMTTYPE=text/html:<div style="border: 0px\; font-variant-numeric: inherit\; font-variant-east-asian: inherit\; font-stretch: inherit\; font-size: 15px\; line-height: inherit\; font-family: Roboto\, Helvetica\, Arial\, sans-serif\; margin: 0.5em 0px 0px\; padding: 0px\; vertical-align: baseline\; color: rgb(5\, 5\, 5)\; white-space: pre-wrap\;">\n<div dir="auto" style="border: 0px\; font: inherit\; margin: 0px\; padding: 0px\; vertical-align: baseline\; color: inherit\;"><span style="font-family:arial\;"><font size="4">The Rotary E-Club of the South will host </font></span><a data-auth="NotApplicable" data-linkindex="6" href="https://en.wikipedia.org/wiki/Mac_McWhorter" rel="noopener noreferrer" style="border: 0px\; font-variant-numeric: inherit\; font-variant-east-asian: inherit\; font-stretch: inherit\; font-size: large\; line-height: inherit\; font-family: Arial\, sans-serif\; margin: 0px\; padding: 0px\; vertical-align: baseline\; background-color: rgb(255\, 255\, 255)\; text-decoration-line: none\;" target="_blank"><span style="border: 0px\; font-style: inherit\; font-variant-ligatures: inherit\; font-variant-caps: inherit\; font-variant-numeric: normal\; font-variant-east-asian: normal\; font-weight: inherit\; font-stretch: inherit\; font-size: 11pt\; line-height: inherit\; font-family: Arial\; margin: 0px\; padding: 0px\; vertical-align: baseline\; color: inherit\; background-color: transparent !important\; white-space: pre-wrap\; text-decoration-line: underline\;">Mac McWhorter</span></a><span style="border: 0px\; font-variant-numeric: normal\; font-variant-east-asian: normal\; font-stretch: inherit\; font-size: 11pt\; line-height: inherit\; font-family: Arial\; margin: 0px\; padding: 0px\; vertical-align: baseline\; white-space: pre-wrap\;"> - All SEC UGA football player who coached at </span><span style="border: 0px\; font-variant-numeric: normal\; font-variant-east-asian: normal\; font-stretch: inherit\; font-size: 11pt\; line-height: inherit\; font-family: Arial\; margin: 0px\; padding: 0px\; vertical-align: baseline\; color: rgb(50\, 49\, 48)\; background-color: rgb(255\, 255\, 255)\; white-space: pre-wrap\;">Georgia Tech\, Georgia\, Alabama\, Duke\, Clemson\, Texas and Penn State. I joke that he could never hold down a steady job. </span><span style="border: 0px\; font-variant-numeric: normal\; font-variant-east-asian: normal\; font-stretch: inherit\; font-size: 11pt\; line-height: inherit\; font-family: Arial\; margin: 0px\; padding: 0px\; vertical-align: baseline\; white-space: pre-wrap\;">Invited by Peter Stoddard</span></div>\n</div>\n
LOCATION:This is a virtual event.
UID:e.1940.165954
SEQUENCE:3
DTSTAMP:20260421T011728Z
URL:https://business.athensga.com/events/details/rotary-e-club-of-the-south-featuring-mac-mcwhorter-165954
END:VEVENT

END:VCALENDAR
