BEGIN:VCALENDAR
VERSION:2.0
PRODID:-//ChamberMaster//Event Calendar 2.0//EN
METHOD:PUBLISH
X-PUBLISHED-TTL:P3D
REFRESH-INTERVAL:P3D
CALSCALE:GREGORIAN
BEGIN:VEVENT
DTSTART:20220826T130000Z
DTEND:20220826T170000Z
X-MICROSOFT-CDO-ALLDAYEVENT:FALSE
SUMMARY:Recess Pop Up Event
DESCRIPTION:Recess is collaborating with Sunny Days Therapeutics for a Pop UP event at their site (105 Westpark Dr # D\, Athens\, GA 30606)! Join us (9:00 AM - 1:00 PM) for Unstructured Play and find out more about Sunny Days and how their qualified staff can help you beat local wait lists! \n\n\n\n$12 at the door or pre purchase online for $10\n\nwww.recessexperience.com/play\n\n\n\nNo child admitted without an adult for supervision.\n\nNo adult admitted without a child for safety.
X-ALT-DESC;FMTTYPE=text/html:<span style="font-size:16px">Recess is collaborating with Sunny Days Therapeutics for a Pop UP event at their site (<span style="background-color:rgb(255\, 255\, 255)\; color:rgb(32\, 33\, 36)\; font-family:roboto\,arial\,sans-serif">105 Westpark Dr # D\, Athens\, GA 30606)! Join us (9:00 AM - 1:00 PM) for Unstructured Play and find out more about Sunny Days and how their qualified staff can help you beat local wait lists!&nbsp\;<br />\n<br />\n$12 at the door or pre purchase online for $10<br />\nwww.recessexperience.com/play<br />\n<br />\nNo child admitted without an adult for supervision.<br />\nNo adult admitted without a child for safety.</span></span>
LOCATION:Sunny Days Therapeutics 105 Westpark Dr # D Athens\, GA 30606
UID:e.1940.166391
SEQUENCE:3
DTSTAMP:20260421T070116Z
URL:https://business.athensga.com/events/details/recess-pop-up-event-08-26-2022-166391
END:VEVENT

END:VCALENDAR
