BEGIN:VCALENDAR
VERSION:2.0
PRODID:-//ChamberMaster//Event Calendar 2.0//EN
METHOD:PUBLISH
X-PUBLISHED-TTL:P3D
REFRESH-INTERVAL:P3D
CALSCALE:GREGORIAN
BEGIN:VEVENT
DTSTART:20220818T200000Z
DTEND:20220818T220000Z
X-MICROSOFT-CDO-ALLDAYEVENT:FALSE
SUMMARY:Oconee State Bank Afterhours Networking Event
DESCRIPTION:Join the Athens Area Chamber of Commerce as we celebrate with Oconee State Bank their newest location at One Press Place! The event will feature light snacks and beverages from Akademia Brewing Co. Come ready to mix and mingle!
X-ALT-DESC;FMTTYPE=text/html:Join the Athens Area Chamber of Commerce as we celebrate with Oconee State Bank their newest location at One Press Place! The event will feature light snacks and beverages from Akademia Brewing Co. Come ready to mix and mingle!&nbsp\;
LOCATION:
UID:e.1940.165966
SEQUENCE:3
DTSTAMP:20260421T053400Z
URL:https://business.athensga.com/events/details/oconee-state-bank-afterhours-networking-event-165966
END:VEVENT

END:VCALENDAR
