BEGIN:VCALENDAR
VERSION:2.0
PRODID:-//ChamberMaster//Event Calendar 2.0//EN
METHOD:PUBLISH
X-PUBLISHED-TTL:P3D
REFRESH-INTERVAL:P3D
CALSCALE:GREGORIAN
BEGIN:VEVENT
DTSTART:20220108T140000Z
DTEND:20220108T213000Z
X-MICROSOFT-CDO-ALLDAYEVENT:FALSE
SUMMARY:New Year - New Heart 2022: New in Christ Prayer Conference
DESCRIPTION:When: Saturday\, January 8th\, 2022\, 9:00 AM - 4:30 PM\n\nWhere: Living Hope Church\, 2150 Lexington Road\, Athens\, GA 30605\n\nCost: $35 in-person (includes lunch)\, $20 virtual.\n\n\n\nMinistry partner discounts are available!\n\n\n\nYou're invited to Athens College of Ministry's annual New Year - New Heart prayer conference. This year's theme is "New in Christ" and we'll explore how to understand and walk in the identity that God has given us. URL for more info and to register: https://acmin.edu/new-year-new-heart/ COVID safety precautions will be implemented to maintain the safety of the participants.
X-ALT-DESC;FMTTYPE=text/html:<u><strong>When</strong></u>: Saturday\, January 8th\, 2022\, 9:00 AM - 4:30 PM<br />\n<u><strong>Where</strong></u>: Living Hope Church\, 2150 Lexington Road\, Athens\, GA 30605<br />\n<u><strong>Cost</strong></u>: $35 in-person (includes lunch)\, $20 virtual.<br />\n<br />\nMinistry partner discounts are available!<br />\n<br />\nYou&#39\;re invited to Athens College of Ministry&#39\;s annual New Year - New Heart prayer conference. This year&#39\;s theme is &quot\;New in Christ&quot\; and we&#39\;ll explore how to understand and walk in the identity that God has given us. URL for more info and to register: https://acmin.edu/new-year-new-heart/ COVID safety precautions will be implemented to maintain the safety of the participants.
LOCATION:Living Hope Church 2150 Lexington Road\, Athens\, GA 30605
UID:e.1940.165806
SEQUENCE:3
DTSTAMP:20260422T094516Z
URL:https://business.athensga.com/events/details/new-year-new-heart-2022-new-in-christ-prayer-conference-165806
END:VEVENT

END:VCALENDAR
