BEGIN:VCALENDAR
VERSION:2.0
PRODID:-//ChamberMaster//Event Calendar 2.0//EN
METHOD:PUBLISH
X-PUBLISHED-TTL:P3D
REFRESH-INTERVAL:P3D
CALSCALE:GREGORIAN
BEGIN:VEVENT
DTSTART:20191115T170000Z
DTEND:20191115T180000Z
X-MICROSOFT-CDO-ALLDAYEVENT:FALSE
SUMMARY:**NEW** Retail Cash Mob
DESCRIPTION:The Chamber excited to share that we have created a new event - our FIRST Retail Cash Mob!  \n\n\n\nJoin in on the fun as we gather as a group of people ready to spend at least $20 at a secret retailer that we choose.
X-ALT-DESC;FMTTYPE=text/html:<strong><span style="color:#B22222\;">The Chamber excited to share that we have created a new event - our FIRST Retail Cash Mob!&nbsp\;&nbsp\;<br />\n<br />\nJoin in on the fun as we gather as a group of people ready to spend at least $20 at a secret retailer that we choose.&nbsp\;&nbsp\;</span></strong>&nbsp\;&nbsp\;&nbsp\;&nbsp\;&nbsp\;&nbsp\;&nbsp\;&nbsp\;&nbsp\;&nbsp\;&nbsp\;&nbsp\;&nbsp\;&nbsp\;&nbsp\;&nbsp\;
LOCATION:Meet us at the Chamber and we will walk to the retailer together!
UID:e.1940.164273
SEQUENCE:3
DTSTAMP:20260426T041417Z
URL:https://business.athensga.com/events/details/new-retail-cash-mob-164273
END:VEVENT

END:VCALENDAR
