BEGIN:VCALENDAR
VERSION:2.0
PRODID:-//ChamberMaster//Event Calendar 2.0//EN
METHOD:PUBLISH
X-PUBLISHED-TTL:P3D
REFRESH-INTERVAL:P3D
CALSCALE:GREGORIAN
BEGIN:VEVENT
DTSTART:20191203T160000Z
DTEND:20191203T180000Z
X-MICROSOFT-CDO-ALLDAYEVENT:FALSE
SUMMARY:NetWORK Lunch December
DESCRIPTION:Make plans to join us for this popular monthly event\, our Network Lunch!  The format includes:\n\n* Open networking\n\n* Seated lunch\n\n* Opportunity for introduce yourself and us about your business!
X-ALT-DESC;FMTTYPE=text/html:<span style="color:#B22222\;"><span style="font-size:14px\;"><strong>Make plans to join us for this popular monthly event\, our Network Lunch!&nbsp\; The format includes:<br />\n*&nbsp\;Open networking<br />\n* Seated&nbsp\;lunch<br />\n* Opportunity for introduce yourself and us about your business!</strong></span></span><br />\n&nbsp\;
LOCATION:Thanks once again to our wonderful host!
UID:e.1940.164163
SEQUENCE:3
DTSTAMP:20260426T000521Z
URL:https://business.athensga.com/events/details/network-lunch-december-164163
END:VEVENT

END:VCALENDAR
