BEGIN:VCALENDAR
VERSION:2.0
PRODID:-//ChamberMaster//Event Calendar 2.0//EN
METHOD:PUBLISH
X-PUBLISHED-TTL:P3D
REFRESH-INTERVAL:P3D
CALSCALE:GREGORIAN
BEGIN:VEVENT
DTSTART:20210412T210000Z
DTEND:20210412T230000Z
X-MICROSOFT-CDO-ALLDAYEVENT:FALSE
SUMMARY:Kickoff to UGA Start Up Week - Ask Me Anything
DESCRIPTION:Interested in entrepreneurship? Are you interested in stirring your creative energy\, building connections with others that are considering unique ideas for problem solving\, or simply seeking to engage with people that think beyond the problems of today? Then UGA's Start Up Week (April 12-16) is for you.   \n\n\n\nAthensmade and the Athens Area Chamber of Commerce are coordinating the kickoff event for Start Up Week on Monday\, April 12 from 5:00 - 7:00pm. "Ask Me Anything" will feature some of Athens' most innovative entrepreneurs answering YOUR questions.  \n\n\n\nPanelists:\n\nBrandon Checketts\, Roundsphere\n\nAku Attipoe\, Eye Candy Lash and Brow Bar\n\nKristen Bach\, TREEHOUSE kid & craft\n\nRyder Chosewood\, Kempt\n\n\n\nModerator:\n\nDavis Knox\, Fire and Flavor
X-ALT-DESC;FMTTYPE=text/html:Interested in entrepreneurship? Are you interested in stirring your creative energy\, building connections with others that are considering unique ideas for problem solving\, or simply seeking to engage with people that think beyond the problems of today? Then UGA&#39\;s Start Up Week (April 12-16) is for you.&nbsp\; &nbsp\;<br />\n<br />\nAthensmade and the Athens Area Chamber of Commerce are coordinating the kickoff event for Start Up Week on Monday\, April 12 from 5:00 - 7:00pm. &quot\;Ask Me Anything&quot\; will feature some of Athens&#39\; most innovative entrepreneurs answering YOUR questions.&nbsp\;&nbsp\;<br />\n<br />\nPanelists:<br />\nBrandon Checketts\, Roundsphere<br />\nAku Attipoe\, Eye Candy Lash and Brow Bar<br />\nKristen Bach\, TREEHOUSE kid &amp\; craft<br />\nRyder Chosewood\, Kempt<br />\n<br />\nModerator:<br />\nDavis Knox\, Fire and Flavor
LOCATION:This will be a hybrid event with limited in-person attendance. It will also be available online. Pre-registration is required for both in-person and to receive online connectivity details: CLICK HERE to register The event will be held at: Studio 225 225 W Broad St Athens GA 30601 Virtual connectivity information will be available by April 8.
UID:e.1940.165626
SEQUENCE:3
DTSTAMP:20260423T134016Z
URL:https://business.athensga.com/events/details/kickoff-to-uga-start-up-week-ask-me-anything-165626
END:VEVENT

END:VCALENDAR
