BEGIN:VCALENDAR
VERSION:2.0
PRODID:-//ChamberMaster//Event Calendar 2.0//EN
METHOD:PUBLISH
X-PUBLISHED-TTL:P3D
REFRESH-INTERVAL:P3D
CALSCALE:GREGORIAN
BEGIN:VEVENT
DTSTART:20210426T130000Z
DTEND:20210430T193000Z
X-MICROSOFT-CDO-ALLDAYEVENT:FALSE
SUMMARY:Forever Bags Collection - United Way of Northeast Georgia
DESCRIPTION:United Way of Northeast Georgia is excited to celebration National Volunteer Month by asking local volunteers to support the children in the foster care system in our region. Volunteers can pack Forever Bags   duffle bags or drawstring backpacks filled with toiletries\, books\, and more (all new)   and deliver them to United Way of Northeast Georgia's office the week of April 26. A packing list and details can be found here. United Way of Northeast Georgia will then distribute those bags to Children First\, Inc. and Northeast Georgia CASA to give to local children in foster care. Our hope is with these Forever Bags\, they can carry something with them that is entirely their own when they go to a new home setting. Email Elizabeth Earl (eearl@unitedwaynega.org) or Alison Alwes (ageist@unitedwaynega.org) about dropping off the bags or any additional questions. Visit our website for more information.
X-ALT-DESC;FMTTYPE=text/html:United Way of Northeast Georgia is excited to celebration National Volunteer Month by asking local volunteers to support the children in the foster care system in our region. Volunteers can pack Forever Bags &ndash\; duffle bags or drawstring backpacks filled with toiletries\, books\, and more (all new) &ndash\; and deliver them to United Way of Northeast Georgia&rsquo\;s office the week of April 26. A packing list and details can be found <a href="https://www.unitedwaynega.org/uploads/rtFX6Ndd/ForeverBags-PackingList.pdf">here</a>. United Way of Northeast Georgia will then distribute those bags to Children First\, Inc. and Northeast Georgia CASA to give to local children in foster care. Our hope is with these Forever Bags\, they can carry something with them that is entirely their own when they go to a new home setting. Email Elizabeth Earl (<a href="mailto:eearl@unitedwaynega.org">eearl@unitedwaynega.org</a>) or Alison Alwes (<a href="mailto:ageist@unitedwaynega.org">ageist@unitedwaynega.org</a>) about dropping off the bags or any additional questions. <a href="https://www.unitedwaynega.org/get-involved/volunteer">Visit our website for more information.</a>
LOCATION:Drop off packed Forever Bags - or new items for Forever Bags - at United Way of Northeast Georgia's office between April 26-30. Office address: 1 Huntington Road Suite 805 Athens\, GA 30606
UID:e.1940.165629
SEQUENCE:3
DTSTAMP:20260423T185931Z
URL:https://business.athensga.com/events/details/forever-bags-collection-united-way-of-northeast-georgia-165629
END:VEVENT

END:VCALENDAR
