BEGIN:VCALENDAR
VERSION:2.0
PRODID:-//ChamberMaster//Event Calendar 2.0//EN
METHOD:PUBLISH
X-PUBLISHED-TTL:P3D
REFRESH-INTERVAL:P3D
CALSCALE:GREGORIAN
BEGIN:VEVENT
DTSTART:20230504T210000Z
DTEND:20230505T030000Z
X-MICROSOFT-CDO-ALLDAYEVENT:FALSE
SUMMARY:Film Premiere Supporting Love.Craft Athens
DESCRIPTION:2 showings of "Finding Purpose: The Brookwood Story"\, a documentary about the Brookwood Community at Cin .\n\n\n\n-5:15p Showing 1\n\n-6-7p Local Food & Music by T. Hardy Morris\n\n-7:15p Showing 2\n\n-8:30p The Love.Craft Band\n\n-9p DJ + Dance Party\n\nhttps://lovecraftathens.kindful.com/e/finding-purpose-film-premiere
X-ALT-DESC;FMTTYPE=text/html:<span style="font-family: &quot\;Open Sans&quot\;\, &quot\;Helvetica Neue&quot\;\, Helvetica\, Arial\, sans-serif\; font-size: 17px\; white-space: pre-line\; background-color: rgb(252\, 252\, 252)\;">2 showings of &quot\;Finding Purpose: The Brookwood Story&quot\;\, a documentary about the Brookwood Community at Cin&eacute\;.<br />\n<br />\n-5:15p Showing 1<br />\n-6-7p Local Food &amp\; Music by T. Hardy Morris<br />\n-7:15p Showing 2<br />\n-8:30p The Love.Craft Band<br />\n-9p DJ + Dance Party</span><br />\n<a href="https://lovecraftathens.kindful.com/e/finding-purpose-film-premiere">https://lovecraftathens.kindful.com/e/finding-purpose-film-premiere</a><br />\n&nbsp\;
LOCATION:Cin 234 W Hancock Ave Athens\, GA 30601 United States
UID:e.1940.166690
SEQUENCE:3
DTSTAMP:20260419T203419Z
URL:https://business.athensga.com/events/details/film-premiere-supporting-love-craft-athens-166690
END:VEVENT

END:VCALENDAR
