BEGIN:VCALENDAR
VERSION:2.0
PRODID:-//ChamberMaster//Event Calendar 2.0//EN
METHOD:PUBLISH
X-PUBLISHED-TTL:P3D
REFRESH-INTERVAL:P3D
CALSCALE:GREGORIAN
BEGIN:VEVENT
DTSTART:20200429T180000Z
DTEND:20200429T190000Z
X-MICROSOFT-CDO-ALLDAYEVENT:FALSE
SUMMARY:Families First Coronavirus Response Act: Practical Issues for Employers in Navigating the New Federal Emergency Paid FMLA and Sick Leave Mandates
DESCRIPTION:Join Georgia Chamber partner\, Littler\, for this timely webinar addressing The Families First Coronavirus Response Act. This new law requires covered employers to offer emergency paid leave in the form of a new mandatory paid sick leave benefit and expanded paid leave under the FMLA.
X-ALT-DESC;FMTTYPE=text/html:<span style="margin: 0px\; padding: 0px\; border: 0px\; font-variant-numeric: inherit\; font-variant-east-asian: inherit\; font-stretch: inherit\; font-size: 13px\; line-height: inherit\; font-family: Arial\, &quot\;Helvetica Neue&quot\;\, Helvetica\, sans-serif\; vertical-align: baseline\; color: rgb(91\, 99\, 99)\; background-color: rgb(255\, 255\, 255)\;">Join Georgia Chamber partner\,<a data-auth="NotApplicable" href="https://gachamber.us12.list-manage.com/track/click?u=5b4ffe6d68fd7462e33a77527&amp\;id=cedb0be733&amp\;e=37dc0d33c1" rel="noopener noreferrer" style="margin: 0px\; padding: 0px\; border: 0px\; font-style: inherit\; font-variant: inherit\; font-weight: bold\; font-stretch: inherit\; font-size: inherit\; line-height: inherit\; font-family: inherit\; vertical-align: baseline\; color: rgb(0\, 76\, 138)\; text-decoration-line: none\;" target="_blank">&nbsp\;Littler</a>\,&nbsp\;for this timely webinar addressing The Families First Coronavirus Response Act. This new law requires covered employers to offer emergency paid leave in the form of a new mandatory paid sick leave benefit and expanded paid leave under the FMLA.</span><br style="color: rgb(91\, 99\, 99)\; font-family: Arial\, &quot\;Helvetica Neue&quot\;\, Helvetica\, sans-serif\; font-size: 16px\; background-color: rgb(255\, 255\, 255)\;">\n&nbsp\;
LOCATION:CLICK HERE for additional information and to register
UID:e.1940.164788
SEQUENCE:3
DTSTAMP:20260421T104713Z
URL:https://business.athensga.com/events/details/families-first-coronavirus-response-act-practical-issues-for-employers-in-navigating-the-new-federal-emergency-paid-fmla-and-sick-leave-mandates-164788
END:VEVENT

END:VCALENDAR
