BEGIN:VCALENDAR
VERSION:2.0
PRODID:-//ChamberMaster//Event Calendar 2.0//EN
METHOD:PUBLISH
X-PUBLISHED-TTL:P3D
REFRESH-INTERVAL:P3D
CALSCALE:GREGORIAN
BEGIN:VEVENT
DTSTART:20210122T140000Z
DTEND:20210122T230000Z
X-MICROSOFT-CDO-ALLDAYEVENT:FALSE
SUMMARY:Extended Building Better Communities Local Business Partnership with Hendershot's Coffee Bar
DESCRIPTION:W&A Engineering is pleased to extend the Building Better Communities Local Business Partnership program into the month of January! During the week of January 20th\, you can help support a local charity by dining local at Hendershot's Coffee Bar\, located in Bottleworks on Prince Avenue. W&A Engineering will match their first $500 in sales with a donation to Heart Music Athens\, a local nonprofit supporting music education.  Help support our local community by stopping by Hendershot's Coffee Bar!
X-ALT-DESC;FMTTYPE=text/html:W&amp\;A Engineering is pleased to extend the Building Better Communities Local Business Partnership program into the month of January! During the week of January 20th\, you can help support a local charity by dining local at Hendershot&#39\;s Coffee Bar\, located in Bottleworks on Prince Avenue. W&amp\;A Engineering will match their first $500 in sales with a donation to Heart Music Athens\, a local nonprofit supporting music education.&nbsp\; Help support our local community by stopping by Hendershot&#39\;s Coffee Bar!
LOCATION:Hendershot's Coffee Bar (Bottleworks on Prince) 237 Prince Ave Athens\, GA 30601
UID:e.1940.165583
SEQUENCE:3
DTSTAMP:20260424T164116Z
URL:https://business.athensga.com/events/details/extended-building-better-communities-local-business-partnership-with-hendershot-s-coffee-bar-01-22-2021-165583
END:VEVENT

END:VCALENDAR
