BEGIN:VCALENDAR
VERSION:2.0
PRODID:-//ChamberMaster//Event Calendar 2.0//EN
METHOD:PUBLISH
X-PUBLISHED-TTL:P3D
REFRESH-INTERVAL:P3D
CALSCALE:GREGORIAN
BEGIN:VEVENT
DTSTART:20210826T233000Z
DTEND:20210830T013000Z
X-MICROSOFT-CDO-ALLDAYEVENT:FALSE
SUMMARY:Cirque Alcatraz
DESCRIPTION:Welcome to Alcatraz. We hope you enjoy your stay. Cirque Italia is proud to present its brand-new production\, premiering AUGUST 26-29 in ATHENS GA\, with shows touring through 2021.\n\n\n\nCirque Alcatraz will be taking its audience on a riveting\, sensational journey of the true story of one man's real-life nightmare of wrongful conviction and subsequent confinement after being sentenced to life in Alcatraz prison. In the latest production brought to you by Cirque Italia\, audience members will be transported through the eyes of two best friends who inadvertently got caught up in the story. Since their opening in 2012\, Cirque Italia has received national praise and accolades for their unique ability of fusing traditional circus acts with new and unexpected mediums\, resulting in sensational Cirque experiences. Cirque Alcatraz features riveting aerial acts\, jaw-dropping stunts\, incredible displays of human strength and balance\, mystifying illusions and hilarious comedy while guiding the audience through the narrative.\n\n\n\nCirque Italia is enforcing all recommendations set forth by the C.D.C. and local municipalities. The safety of our guests and employees are of the utmost importance to us. Every member of the Cirque Italia family is committed to the health and wellness of our fans. As such\, we have made certain adjustments and accommodations in order to comply with the safety guidelines set forth by local and state officials. These adjustments and accommodations include some of the following:\n\n\n\n- Restricted seating capacity - Socially distanced seating with visual cues throughout tent -  Mask mandate for anyone over 3 years of age (available for purchase if needed) - Increased number of hand sanitization stations in and around tent - All common areas wiped down and disinfected every 10-15 minutes\n\n\n\nIn order to assist us to better socially distance\, please purchase your tickets in advance: www.cirquealcatraz.com\n\n- By phone 941-704-8572\n\n- At on-site ticket office the week of show\n\n\n\nThis production is rated "R" due to the raw content of the story. Although there is no nudity\, there is adult language\, acts of simulated violence\, and suggestive dialogue and situations. We are requiring that any child of the age of 13 and up be accompanied by an adult of 21 years or older. Anyone below the age of 13 will not be granted access.\n\n\n\nWhen: August 26-29 Where: 1001 Dunlap Road\, Winterville\, GA 30683 At: Athens Fairgrounds -Under the stunning Orange striped Big Top Tent!   Aug 26   Thursday: 7:30pm   Aug 27   Friday: 7:30pm   Aug 28   Saturday: 4:30pm & 7:30pm   Aug 29   Sunday: 4:30pm & 7:30pm\n\n\n\nCost and Purchase Info: For more information\, visit www.cirquealcatraz.com and make sure to check all our social media accounts. Tickets can be purchased now starting at $10.00-$50.00 depending on availability. Box office hours: The box office opens on-site on Tuesday\, the week of the show. Non-show days: 10am   6pm On show days: 10am   9pm You may also purchase tickets through our website (cirquealcatraz.com/tickets) or by phone: (941) 704-8572. We also respond to text messages.
X-ALT-DESC;FMTTYPE=text/html:Welcome to Alcatraz. We hope you enjoy your stay. Cirque Italia is proud to present its brand-new production\, premiering AUGUST 26-29 in ATHENS GA\, with shows touring through 2021.<br />\n<br />\nCirque Alcatraz will be taking its audience on a riveting\, sensational journey of the true story of one man&rsquo\;s real-life nightmare of wrongful conviction and subsequent confinement after being sentenced to life in Alcatraz prison. In the latest production brought to you by Cirque Italia\, audience members will be transported through the eyes of two best friends who inadvertently got caught up in the story. Since their opening in 2012\, Cirque Italia has received national praise and accolades for their unique ability of fusing traditional circus acts with new and unexpected mediums\, resulting in sensational Cirque experiences. Cirque Alcatraz features riveting aerial acts\, jaw-dropping stunts\, incredible displays of human strength and balance\, mystifying illusions and hilarious comedy while guiding the audience through the narrative.<br />\n<br />\nCirque Italia is enforcing all recommendations set forth by the C.D.C. and local municipalities. The safety of our guests and employees are of the utmost importance to us. Every member of the Cirque Italia family is committed to the health and wellness of our fans. As such\, we have made certain adjustments and accommodations in order to comply with the safety guidelines set forth by local and state officials. These adjustments and accommodations include some of the following:<br />\n<br />\n-&nbsp\;Restricted seating capacity - Socially distanced seating with visual cues throughout tent -&nbsp\; Mask mandate for anyone over 3 years of age (available for purchase if needed) - Increased number of hand sanitization stations in and around tent - All common areas wiped down and disinfected every 10-15 minutes<br />\n<br />\nIn order to assist us to better socially distance\, please purchase your tickets in advance: www.cirquealcatraz.com<br />\n-&nbsp\;By phone 941-704-8572<br />\n-&nbsp\;At on-site ticket office the week of show<br />\n<br />\nThis production is rated &quot\;R&quot\; due to the raw content of the story. Although there is no nudity\, there is adult language\, acts of simulated violence\, and suggestive dialogue and situations. We are requiring that any child of the age of 13 and up be accompanied by an adult of 21 years or older. Anyone below the age of 13 will not be granted access.<br />\n<br />\nWhen: August 26-29 Where: 1001 Dunlap Road\, Winterville\, GA 30683 At: Athens Fairgrounds -Under the stunning Orange striped Big Top Tent! &middot\; Aug 26 &ndash\; Thursday: 7:30pm &middot\; Aug 27 &ndash\; Friday: 7:30pm &middot\; Aug 28 &ndash\; Saturday: 4:30pm &amp\; 7:30pm &middot\; Aug 29 &ndash\; Sunday: 4:30pm &amp\; 7:30pm<br />\n<br />\nCost and Purchase Info: For more information\, visit www.cirquealcatraz.com and make sure to check all our social media accounts. Tickets can be purchased now starting at $10.00-$50.00 depending on availability. Box office hours: The box office opens on-site on Tuesday\, the week of the show. Non-show days: 10am &ndash\; 6pm On show days: 10am &ndash\; 9pm You may also purchase tickets through our website (cirquealcatraz.com/tickets) or by phone: (941) 704-8572. We also respond to text messages.
LOCATION:Athens Fairgrounds
UID:e.1940.165728
SEQUENCE:3
DTSTAMP:20260423T041715Z
URL:https://business.athensga.com/events/details/cirque-alcatraz-165728
END:VEVENT

END:VCALENDAR
