BEGIN:VCALENDAR
VERSION:2.0
PRODID:-//ChamberMaster//Event Calendar 2.0//EN
METHOD:PUBLISH
X-PUBLISHED-TTL:P3D
REFRESH-INTERVAL:P3D
CALSCALE:GREGORIAN
BEGIN:VEVENT
DTSTART:20200408T130000Z
DTEND:20200408T140000Z
X-MICROSOFT-CDO-ALLDAYEVENT:FALSE
SUMMARY:*Business & Community Update*
DESCRIPTION:Join us as we get Business/Community Updates with:\n\n* Athens Area Chamber of Commerce\n\n* Envision Athens\n\n* Clarke County School District\n\n* United Way of N.E. Georgia\n\n* Athens Area Community Foundation
X-ALT-DESC;FMTTYPE=text/html:Join us as we get Business/Community Updates with:<br />\n* Athens Area Chamber of Commerce<br />\n* Envision Athens<br />\n* Clarke County School District<br />\n* United Way of N.E. Georgia<br />\n* Athens Area Community Foundation
LOCATION:Topic: Business & Community Update Speakers: Mayor Kelly Girtz\, Erin Barger (Envision Athens)\, Lawrence Harris (CCSD)\, Sarah McKinney (Athens Area Foundation)\, Key Keller (United Way of NE Ga) Join Zoom Meeting https://zoom.us/j/603405310 Meeting ID: 603 405 310 One tap mobile +13126266799\,\,603405310# US (Chicago) +19292056099\,\,603405310# US (New York) Dial by your location +1 312 626 6799 US (Chicago) +1 929 205 6099 US (New York) +1 346 248 7799 US (Houston) +1 669 900 6833 US (San Jose) +1 253 215 8782 US +1 301 715 8592 US Meeting ID: 603 405 310 Find your local number: https://zoom.us/u/acKfUyPloM
UID:e.1940.164351
SEQUENCE:3
DTSTAMP:20260421T102146Z
URL:https://business.athensga.com/events/details/business-community-update-164351
END:VEVENT

END:VCALENDAR
