BEGIN:VCALENDAR
VERSION:2.0
PRODID:-//ChamberMaster//Event Calendar 2.0//EN
METHOD:PUBLISH
X-PUBLISHED-TTL:P3D
REFRESH-INTERVAL:P3D
CALSCALE:GREGORIAN
BEGIN:VEVENT
DTSTART:20200220T220000Z
DTEND:20200221T000000Z
X-MICROSOFT-CDO-ALLDAYEVENT:FALSE
SUMMARY:Business After Hours - Open House
DESCRIPTION:This Business After Hours event includes a bonus!  Not only are you invited to check out W&A Engineering's new space on Oneta St at their Open House....but you can also learn more about their exciting year long project which benefits our entire community!\n\n \nAs part of their 20th anniversary celebration\, W&A Engineering is launching a year-long program\, the Building Better Communities Local Business Partnership! Throughout 2020\, W&A will partner with 12 local businesses to highlight the work they have done in establishing their business as an important part of the culture and economy of Athens-Clarke and Oconee counties.\n\n \n\nW&A will be asking each of the 12 businesses chosen\, one per month\, to name a nonprofit ?beneficiary? and pledging to donate an amount equal to the business sales on the 20th day of the month\, up to $500. Designating a nonprofit as part of this partnership is not only a way to give back\, but also as an opportunity to recognize the significant role these community partners have in our economy.
X-ALT-DESC;FMTTYPE=text/html:<span style="color:#800080\;"><span style="font-family:arial\;"><strong><span style="font-size: 14px\;">This Business After Hours event includes a bonus!&nbsp\; Not only are you invited to check out W&amp\;A Engineering&#39\;s new space on Oneta St at their Open House....but you can also learn more about their exciting year long project which benefits our entire community!</span></strong></span></span><br />\n&nbsp\;\n<p class="x_xmsonormal" style="margin: 0in 0in 0.0001pt\; font-size: 11pt\; font-family: Calibri\, sans-serif\; color: rgb(6\, 31\, 93)\; background-color: rgb(255\, 255\, 255)\;"><span style="color:#800080\;"><span style="font-family:arial\;"><strong>As part of their 20th anniversary celebration\, W&amp\;A Engineering is&nbsp\;launching a year-long program\, the Building Better Communities Local Business Partnership! Throughout 2020\, W&amp\;A will partner with 12 local businesses to highlight the work they have done in establishing their business as an important part of the culture and economy of Athens-Clarke and Oconee counties.</strong></span></span></p>\n\n<p class="x_xmsonormal" style="margin: 0in 0in 0.0001pt\; font-size: 11pt\; font-family: Calibri\, sans-serif\; color: rgb(6\, 31\, 93)\; background-color: rgb(255\, 255\, 255)\;">&nbsp\;</p>\n\n<p class="x_xmsonormal" style="margin: 0in 0in 0.0001pt\; font-size: 11pt\; font-family: Calibri\, sans-serif\; color: rgb(6\, 31\, 93)\; background-color: rgb(255\, 255\, 255)\;"><span style="color:#800080\;"><span style="font-family:arial\;"><strong>W&amp\;A will be asking each of the 12 businesses chosen\, one per month\, to name a nonprofit ?beneficiary? and pledging to donate an amount equal to the business sales on the 20th day of the month\, up to $500. Designating a nonprofit as part of this partnership is not only a way to give back\, but also as an opportunity to recognize the significant role these community partners have in our economy.</strong></span></span></p>\n
LOCATION:**ADDITIONAL PARKING AVAILABLE** Due to the recent wet weather\, the parking lot is not completed\, so look for signs for overflow parking at 215 Oneta St. - Shuttle services will be available!
UID:e.1940.164291
SEQUENCE:3
DTSTAMP:20260425T195341Z
URL:https://business.athensga.com/events/details/business-after-hours-open-house-164291
END:VEVENT

END:VCALENDAR
