BEGIN:VCALENDAR
VERSION:2.0
PRODID:-//ChamberMaster//Event Calendar 2.0//EN
METHOD:PUBLISH
X-PUBLISHED-TTL:P3D
REFRESH-INTERVAL:P3D
CALSCALE:GREGORIAN
BEGIN:VEVENT
DTSTART:20200719T160000Z
DTEND:20200726T000000Z
X-MICROSOFT-CDO-ALLDAYEVENT:FALSE
SUMMARY:Building Better Communities Local Business Partnership- July Spotlight with Lil Ice Cream Dude
DESCRIPTION:With record heat heading our way this weekend\, there is no better time for ice cream! Beginning Sunday\, and all next week during the week of July 20th\, grab a cool treat from Lil Ice Cream Dude's Cool World Ice Cream Shop located at 1040 Gaines School Road in Athens to help raise up to $500 for Chess and Community! \n\n\n\nIt's all a part of W&A Engineering's 20th Anniversary celebration\, the Building Better Communities Local Business Partnership. Each month\, it has been our goal to highlight fellow local businesses and nonprofit organizations that define Athens and help our community thrive. You can get involved by showing your patronage to the local business of the month to help raise up to $500 for a local nonprofit.\n\n\n\nLil Ice Cream Dude is an inspiration to many in our community and W&A is privileged to have their partnership this month. Learn more about this month's partners at www.waengineering.com/corporate-citizenship/building-better-communities-local-business-partnership/  -AND- and watch the interview with Lil Ice Cream Dude and his Mom\, Vickie Shell about this month's partnership on our YouTube channel at https://youtu.be/Pb70Ds273w4. \n\n\n\nLil Ice Cream Dude's Cool World Ice Cream Shop is offering online and call-in ordering for contactless curbside pickup or delivery. The shop is open from NOON to 8 PM DAILY. You can place your order online at coolworldicecreamshop.square.site. \n\n\n\nAlso\, check out lilicecreamdude.com to learn about contactless event options!
X-ALT-DESC;FMTTYPE=text/html:<span style="font-size:14px"><span style="font-family:arial\,helvetica\,sans-serif"><span style="color:#333333">With record heat heading our way this weekend\, there is no better time for <strong>ice cream</strong>! Beginning Sunday\, and <strong>all next week</strong> during the <strong>week of July 20<sup>th</sup></strong>\, grab a <strong>cool treat</strong> from <strong>Lil Ice Cream Dude&rsquo\;s Cool World Ice Cream Shop</strong> located at&nbsp\;</span><span style="color:#222222">1040 Gaines School Road in Athens to help <strong>raise up to $500</strong> for <a href="https://www.chessandcommunity.org/"><strong>Chess and Community</strong></a>!&nbsp\;</span><br />\n<br />\nIt&rsquo\;s all a part of <a href="https://www.waengineering.com/corporate-citizenship/building-better-communities-local-business-partnership/">W&amp\;A Engineering&rsquo\;s <strong>20<sup>th</sup>&nbsp\;Anniversary celebration</strong></a>\, the <strong>Building Better Communities Local Business Partnership</strong>. Each month\, it has been our goal to highlight fellow <strong>local businesses and nonprofit organizations</strong> that define Athens and help our community <strong>thrive</strong>. You can <strong>get involved</strong> by showing your patronage to the local business of the month to <strong>help raise up to $500</strong> for a local nonprofit.<br />\n<br />\n<strong><span style="color:#333333">Lil Ice Cream Dude</span></strong><span style="color:#333333"> is an inspiration to many in our community and W&amp\;A is privileged to have their partnership this month. Learn more about this month&#39\;s partners&nbsp\;at&nbsp\;</span><a href="https://www.waengineering.com/corporate-citizenship/building-better-communities-local-business-partnership/" style="font-variant-ligatures:normal\;font-variant-caps:normal\;orphans:2\;text-align:start\;widows:2\;-webkit-text-stroke-width:0px\;word-spacing:0px\;"><span style="color:#0782C1">www.waengineering.com/corporate-citizenship/building-better-communities-local-business-partnership/</span></a><span style="color:#333333">&nbsp\; -AND-&nbsp\;</span></span><span style="font-family:arial\,helvetica\,sans-serif">and&nbsp\;</span><strong>watch the interview with Lil Ice Cream Dude and his Mom\, Vickie Shell </strong>about this month&#39\;s partnership on our YouTube channel at&nbsp\;<a href="https://youtu.be/Pb70Ds273w4">https://youtu.be/Pb70Ds273w4</a>.&nbsp\;</span><br />\n<br />\n<span style="font-family:arial\,helvetica\,sans-serif"><span style="font-size:12px"><span style="font-size:14px"><span style="color:#333333">Lil Ice Cream Dude&rsquo\;s Cool World Ice Cream Shop is offering <strong>online and call-in ordering</strong> for <strong>contactless curbside pickup or delivery</strong>. The shop is <strong>open from NOON to 8 PM DAILY</strong>. You can place your order online at&nbsp\;<a href="https://coolworldicecreamshop.square.site/"><span style="color:#0782C1">coolworldicecreamshop.square.site</span></a>.&nbsp\;<br />\n<br />\nAlso\, check out&nbsp\;<a href="https://lilicecreamdude.com/"><span style="color:#0782C1">lilicecreamdude.com</span></a>&nbsp\;to learn about <strong>contactless event options</strong>!</span></span></span></span><br />\n&nbsp\;
LOCATION:1040 Gaines School Rd Suite #218 Athens\, GA 30605 (Across from Johnny's Pizza) Online Ordering: coolworldicecreamshop.square.site Call-In Orders: 706-850-8306
UID:e.1940.165270
SEQUENCE:3
DTSTAMP:20260425T023152Z
URL:https://business.athensga.com/events/details/building-better-communities-local-business-partnership-july-spotlight-with-lil-ice-cream-dude-165270
END:VEVENT

END:VCALENDAR
