BEGIN:VCALENDAR
VERSION:2.0
PRODID:-//ChamberMaster//Event Calendar 2.0//EN
METHOD:PUBLISH
X-PUBLISHED-TTL:P3D
REFRESH-INTERVAL:P3D
CALSCALE:GREGORIAN
BEGIN:VEVENT
DTSTART:20210918T203000Z
DTEND:20210918T223000Z
X-MICROSOFT-CDO-ALLDAYEVENT:FALSE
SUMMARY:Book Signing with Brittany Wagner
DESCRIPTION:Join Brittany Wagner\, star of Last Chance U and author of Next Chance U on the 1st floor of Barnes & Noble as she signs her book before the UGA vs. South Carolina game!
X-ALT-DESC;FMTTYPE=text/html:Join Brittany Wagner\, star of Last Chance U and author of Next Chance U on the 1st floor of Barnes &amp\; Noble as she signs her book before the UGA vs. South Carolina game!
LOCATION:UGA Bookstore #0095 Follett Higher Education Group 40 Baxter Street Athens\, GA 30602
UID:e.1940.165726
SEQUENCE:3
DTSTAMP:20260423T041215Z
URL:https://business.athensga.com/events/details/book-signing-with-brittany-wagner-165726
END:VEVENT

END:VCALENDAR
