BEGIN:VCALENDAR
VERSION:2.0
PRODID:-//ChamberMaster//Event Calendar 2.0//EN
METHOD:PUBLISH
X-PUBLISHED-TTL:P3D
REFRESH-INTERVAL:P3D
CALSCALE:GREGORIAN
BEGIN:VEVENT
DTSTART:20200228T120000Z
DTEND:20200228T190000Z
X-MICROSOFT-CDO-ALLDAYEVENT:FALSE
SUMMARY:Athens Chamber - General Assembly Visit
DESCRIPTION:Join us as we meet with our delegation at the General Assembly and expected conversations with cabinet members with focus on transportation\, economic development and healthcare.
X-ALT-DESC;FMTTYPE=text/html:<p><span style="color:#000000\;"><strong>Join us as we meet with our delegation at the General Assembly and expected conversations with cabinet members with focus on transportation\, economic development and healthcare.</strong></span></p>\n
LOCATION:Leave from the Chamber at 7:00 a.m. using group travel and will arrive at the State Capitol
UID:e.1940.164296
SEQUENCE:3
DTSTAMP:20260425T171336Z
URL:https://business.athensga.com/events/details/athens-chamber-general-assembly-visit-164296
END:VEVENT

END:VCALENDAR
