BEGIN:VCALENDAR
VERSION:2.0
PRODID:-//ChamberMaster//Event Calendar 2.0//EN
METHOD:PUBLISH
X-PUBLISHED-TTL:P3D
REFRESH-INTERVAL:P3D
CALSCALE:GREGORIAN
BEGIN:VEVENT
DTSTART:20220811T153000Z
DTEND:20220811T170000Z
X-MICROSOFT-CDO-ALLDAYEVENT:FALSE
SUMMARY:Athens Aging Network Luncheon
DESCRIPTION:All Chamber Members are invited to this luncheon\, hosted by Athens Aging Network (formerly known as the Athens Senior Resource Network). This will be a great opportunity to meet and mingle with businesses serving aging populations in the greater Athens area.\n\n\n\nPlease wear a mask and bring proof of vaccination or a negative COVID test within the last 30 days as per the host location's policy. Thank you for understanding!
X-ALT-DESC;FMTTYPE=text/html:All Chamber Members are invited to this luncheon\, hosted by Athens Aging Network (formerly known as the Athens Senior Resource Network). This will be a great opportunity to meet and mingle with businesses serving aging populations in the greater Athens area.<br />\n<br />\nPlease wear a mask and bring proof of vaccination or a negative COVID test within the last 30 days as per the host location&#39\;s policy. Thank you for understanding!&nbsp\;<br />\n&nbsp\;\n<p style="color: rgb(32\, 31\, 30)\; font-size: 11pt\; font-family: Calibri\, sans-serif\; margin: 0px\;">&nbsp\;</p>\n
LOCATION:Thank you to our hosts at Orchard Athens!
UID:e.1940.165967
SEQUENCE:3
DTSTAMP:20260421T150704Z
URL:https://business.athensga.com/events/details/athens-aging-network-luncheon-165967
END:VEVENT

END:VCALENDAR
