BEGIN:VCALENDAR
VERSION:2.0
PRODID:-//ChamberMaster//Event Calendar 2.0//EN
METHOD:PUBLISH
X-PUBLISHED-TTL:P3D
REFRESH-INTERVAL:P3D
CALSCALE:GREGORIAN
BEGIN:VEVENT
DTSTART:20191109T120000Z
DTEND:20191109T170000Z
X-MICROSOFT-CDO-ALLDAYEVENT:FALSE
SUMMARY:AAHBA HOMES FOR HUNGER 5K RUN
DESCRIPTION:HOMES FOR HUNGER 5K Race TO BENEFIT THE AAHBA & ACTS Food Bank SATURDAY NOV 9th\,2019 OCONEE VETERANS PARK
X-ALT-DESC;FMTTYPE=text/html:HOMES FOR HUNGER 5K Race TO BENEFIT THE AAHBA &amp\; ACTS Food Bank SATURDAY NOV 9th\,2019 OCONEE VETERANS PARK
LOCATION:Oconee Veterans Park 3500A Hog Mountain Rd. Watkinsville\, GA 30677
UID:e.1940.164259
SEQUENCE:3
DTSTAMP:20260426T014610Z
URL:https://business.athensga.com/events/details/aahba-homes-for-hunger-5k-run-164259
END:VEVENT

END:VCALENDAR
