BEGIN:VCALENDAR
VERSION:2.0
PRODID:-//ChamberMaster//Event Calendar 2.0//EN
METHOD:PUBLISH
X-PUBLISHED-TTL:P3D
REFRESH-INTERVAL:P3D
CALSCALE:GREGORIAN
BEGIN:VEVENT
DTSTART:20200216T010000Z
DTEND:20200216T040000Z
X-MICROSOFT-CDO-ALLDAYEVENT:FALSE
SUMMARY:A Modern Tribute to Marvin Gaye
DESCRIPTION:This event will be the 5th of a bi-monthly "Legends Tribute Series". A Modern Tribute to the late great Marvin Gaye (born Marvin Pentz Gay Jr.\; April 2\, 1939   April 1\, 1984) was an American singer\, songwriter\, and record producer. He helped to shape the sound of Motown in the 1960s\, first as an in-house session player and later as a solo artist with a string of hits\, earning him the nicknames "Prince of Motown" and "Prince of Soul".. Produced by Knowa D. Johnson for United Group of Artists. The performances will include opening acts and the tribute performed by Knowa D. Johnson & The Aquatic Soul Collective featuring\, Sarah Jay\, Sam Saussy\, Greg Surratt\, Mariama Tatum\, Blake Benson\, Kara Waters\, Andreana Williams\, Chereese Dunn\, Kimarah Laurent and Nick Wiles. Sponsored by Agora Vintage.
X-ALT-DESC;FMTTYPE=text/html:This event will be the 5th of a bi-monthly &quot\;Legends Tribute Series&quot\;. A Modern Tribute to the late great Marvin Gaye (born Marvin Pentz Gay Jr.\; April 2\, 1939 &ndash\; April 1\, 1984) was an American singer\, songwriter\, and record producer. He helped to shape the sound of Motown in the 1960s\, first as an in-house session player and later as a solo artist with a string of hits\, earning him the nicknames &quot\;Prince of Motown&quot\; and &quot\;Prince of Soul&quot\;.. Produced by Knowa D. Johnson for United Group of Artists. The performances will include opening acts and the tribute performed by Knowa D. Johnson &amp\; The Aquatic Soul Collective featuring\, Sarah Jay\, Sam Saussy\, Greg Surratt\, Mariama Tatum\, Blake Benson\, Kara Waters\, Andreana Williams\, Chereese Dunn\, Kimarah Laurent and Nick Wiles. Sponsored by Agora Vintage.
LOCATION:Hendershots Coffee Address 237 Prince Avenue Town / City Athens State / Province Georgia Zip Code / Post Code 30601
UID:e.1940.164302
SEQUENCE:3
DTSTAMP:20260426T003036Z
URL:https://business.athensga.com/events/details/a-modern-tribute-to-marvin-gaye-164302
END:VEVENT

END:VCALENDAR
