BEGIN:VCALENDAR
VERSION:2.0
PRODID:-//ChamberMaster//Event Calendar 2.0//EN
METHOD:PUBLISH
X-PUBLISHED-TTL:P3D
REFRESH-INTERVAL:P3D
CALSCALE:GREGORIAN
BEGIN:VEVENT
DTSTART:20200406T170000Z
DTEND:20200406T180000Z
X-MICROSOFT-CDO-ALLDAYEVENT:FALSE
SUMMARY:4/6-*WEBINAR*-Update on Local Medical Health Matters
DESCRIPTION:Join us for an update on local  medical/health matters with Athens' Hospital CEO's:\n\n\n\nMichael Burnett\, Piedmont Athens Regional\n\n\n\nDr. Montez Carter\, St. Mary's Medical Center\n\n\n\n~Coordinated with the Athens Area\, Oconee and Madison Chambers along with the NE GA Business Alliance~
X-ALT-DESC;FMTTYPE=text/html:Join us for an update on local &nbsp\;medical/health matters with Athens&#39\; Hospital CEO&#39\;s:<br />\n<br />\nMichael Burnett\, Piedmont Athens Regional<br />\n<br />\nDr. Montez Carter\, St. Mary&#39\;s Medical Center<br />\n<br />\n~Coordinated with the Athens Area\, Oconee and Madison Chambers along with the NE GA Business Alliance~<br />\n&nbsp\;
LOCATION:Join Zoom Meeting https://zoom.us/j/499992613 Meeting ID: 499 992 613 One tap mobile +19292056099\,\,499992613# US (New York) +13126266799\,\,499992613# US (Chicago) Dial by your location +1 929 205 6099 US (New York) +1 312 626 6799 US (Chicago) +1 669 900 6833 US (San Jose) +1 253 215 8782 US +1 301 715 8592 US +1 346 248 7799 US (Houston) Meeting ID: 499 992 613 Find your local number: https://zoom.us/u/acKfUyPloM
UID:e.1940.164350
SEQUENCE:3
DTSTAMP:20260421T104312Z
URL:https://business.athensga.com/events/details/4-6-webinar-update-on-local-medical-health-matters-164350
END:VEVENT

END:VCALENDAR
