BEGIN:VCALENDAR
VERSION:2.0
PRODID:-//ChamberMaster//Event Calendar 2.0//EN
METHOD:PUBLISH
X-PUBLISHED-TTL:P3D
REFRESH-INTERVAL:P3D
CALSCALE:GREGORIAN
BEGIN:VEVENT
DTSTART:20200402T140000Z
DTEND:20200403T033000Z
X-MICROSOFT-CDO-ALLDAYEVENT:FALSE
SUMMARY:4/2 *WEBINAR* w/ GA Dept of Labor Commissioner Mark Butler
DESCRIPTION:To all Chamber members:\n\n\n\nPlease join us this Thursday\, April 2\, 2020 at 10:00AM for a virtual conference call with Georgia Department of Labor Commissioner\, Mark Butler. Commissioner Butler will share an overview of the expanded rules & resources recently announced by the Department as part of the state?s COVID-19 response. A summary of these expanded rules\, designed to assist both employees and employers\, can be found on the Chamber?s website  here.
X-ALT-DESC;FMTTYPE=text/html:<br />\n<strong><span style="font-size:10.5pt\; line-height:125%\; font-family:&quot\;Arial&quot\;\,sans-serif\; color:#5B6363">To all Chamber members:</span></strong><br />\n<br />\n<span style="font-size:10.5pt\; line-height:125%\; font-family:&quot\;Arial&quot\;\,sans-serif\; color:#5B6363">Please join us this <strong><span style="font-family:&quot\;Arial&quot\;\,sans-serif">Thursday\,</span></strong> <strong><span style="font-family:&quot\;Arial&quot\;\,sans-serif">April 2\, 2020 at 10:00AM</span></strong> for a virtual conference call with Georgia Department of Labor Commissioner\, Mark Butler. Commissioner Butler will share an overview of the expanded rules &amp\; resources recently announced by the Department as part of the state?s COVID-19 response. A summary of these expanded rules\, designed to assist both employees and employers\, can be found on the Chamber?s website <a data-auth="NotApplicable" href="https://gachamber.us12.list-manage.com/track/click?u=5b4ffe6d68fd7462e33a77527&amp\;id=23beb2f251&amp\;e=fa09a9ce82" rel="noopener noreferrer" target="_blank"> <b><span style="color:#004C8A\; text-decoration:none">here.</span></b></a>&nbsp\;</span><br />\n<br />\n&nbsp\;
LOCATION:Due to the high-demand teleworking has placed on the conferencing industry\, we have been asked to encourage as many of you as possible to join our call through your computer systems at the following link: Join Zoom Meeting https://zoom.us/j/8818044738 Meeting ID: 881 804 4738 Dial-in options from your mobile phone include the following lines. Should a line be busy\, please try another number from this list until you are connected into the conference: One tap mobile +13126266799\,\,8818044738# US (Chicago) +16465588656\,\,8818044738# US (New York) Dial by your location +1 312 626 6799 US (Chicago) +1 646 558 8656 US (New York) +1 346 248 7799 US (Houston) +1 669 900 9128 US (San Jose) +1 253 215 8782 US +1 301 715 8592 US Meeting ID: 881 804 4738 Find your local number: https://zoom.us/u/acVyZM7Way Questions All questions should be submitted IN ADVANCE through www.sli.do using code #2957 to enter the forum. Please submit your questions by 5:00PM on Wednesday\, April 1\, 2020. Questions will NOT be taken during the call. We will work through as many as we can over the call and do appreciate your commitment to leadership as we all work toward economic recovery following this pandemic. Regards\, Chris Clark\, President & CEO Georgia Chamber
UID:e.1940.164345
SEQUENCE:3
DTSTAMP:20260421T104447Z
URL:https://business.athensga.com/events/details/4-2-webinar-w-ga-dept-of-labor-commissioner-mark-butler-164345
END:VEVENT

END:VCALENDAR
