BEGIN:VCALENDAR
VERSION:2.0
PRODID:-//ChamberMaster//Event Calendar 2.0//EN
METHOD:PUBLISH
X-PUBLISHED-TTL:P3D
REFRESH-INTERVAL:P3D
CALSCALE:GREGORIAN
BEGIN:VEVENT
DTSTART:20220827T140000Z
DTEND:20220827T210000Z
X-MICROSOFT-CDO-ALLDAYEVENT:FALSE
SUMMARY:2022 Pottery Perspectives
DESCRIPTION:Program is open from 8/27 - 9/11\n\n\nOconee Cultural Arts Foundation presents our 2022 Pottery Perspective Preview Night on Friday\, August 26 from 5 p.m. - 8 p.m. Shoppers will have the first opportunity to make their purchases before the sale is open to the public on Saturday\, August 27. Preview night tickets are $20.00. The show and sale will run through September 11. Open daily from 10 a.m. - 5 p.m. and it's free and open to everyone!
X-ALT-DESC;FMTTYPE=text/html:<div style="text-align: center\;"><span style="color:#FF0000\;"><strong>Program is open from 8/27 - 9/11</strong></span></div>\n<br />\nOconee Cultural Arts Foundation presents our 2022 Pottery Perspective Preview Night on Friday\, August 26 from 5 p.m. - 8 p.m. Shoppers will have the first opportunity to make their purchases before the sale is open to the public on Saturday\, August 27. Preview night tickets are $20.00. The show and sale will run through September 11. Open daily from 10 a.m. - 5 p.m. and it&#39\;s free and open to everyone!
LOCATION:Oconee Cultural Arts Foundation
UID:e.1940.165923
SEQUENCE:3
DTSTAMP:20260421T053534Z
URL:https://business.athensga.com/events/details/2022-pottery-perspectives-165923
END:VEVENT

END:VCALENDAR
