BEGIN:VCALENDAR
VERSION:2.0
PRODID:-//ChamberMaster//Event Calendar 2.0//EN
METHOD:PUBLISH
X-PUBLISHED-TTL:P3D
REFRESH-INTERVAL:P3D
CALSCALE:GREGORIAN
BEGIN:VEVENT
DTSTART:20210619T130000Z
DTEND:20210619T201500Z
X-MICROSOFT-CDO-ALLDAYEVENT:FALSE
SUMMARY:2021 Transformed Conference
DESCRIPTION:What: 2021 Transformed Conference: Prepared For His Return When: Saturday\, June 19th\, 2021\, 9:00 AM - 4:15 PM Where: Grace Fellowship Church\, 1120 Malcom Bridge Road\, Bogart\, GA\, 30622 Cost: $35 in-person (includes lunch)\, $20 virtual. 10% early bird discount if you register before May 1st. Ministry partner discounts are available! Info: Join us as we follow up on our New Year   New Heart 2021 prayer conference theme of "All Things New." We will discover together the power of preparation and how God's people are to live in light of God's promises. COVID safety precautions will be implemented\, details are listed on the website. URL for more info and to register: https://acmin.org/transformed-conference/ #transformed21
X-ALT-DESC;FMTTYPE=text/html:What: 2021 Transformed Conference: Prepared For His Return When: Saturday\, June 19th\, 2021\, 9:00 AM - 4:15 PM Where: Grace Fellowship Church\, 1120 Malcom Bridge Road\, Bogart\, GA\, 30622 Cost: $35 in-person (includes lunch)\, $20 virtual. 10% early bird discount if you register before May 1st. Ministry partner discounts are available! Info: Join us as we follow up on our New Year &ndash\; New Heart 2021 prayer conference theme of &ldquo\;All Things New.&rdquo\; We will discover together the power of preparation and how God&rsquo\;s people are to live in light of God&rsquo\;s promises. COVID safety precautions will be implemented\, details are listed on the website. URL for more info and to register: https://acmin.org/transformed-conference/ #transformed21
LOCATION:Grace Fellowship Church 1120 Malcom Bridge Road Bogart\, GA 30622
UID:e.1940.165599
SEQUENCE:3
DTSTAMP:20260423T133632Z
URL:https://business.athensga.com/events/details/2021-transformed-conference-165599
END:VEVENT

END:VCALENDAR
